BEGIN:VCALENDAR
VERSION:2.0
PRODID:-//Tukios.com/
BEGIN:VEVENT
UID:26bb4c13-472d-4802-98dd-28dab5f495d2@www.pinecrestfuneralchapel.com
DTSTAMP:20260424T183449Z
DTSTART:20260502T150000Z
DTEND:20260502T160000Z
SUMMARY:Memorial Service
DESCRIPTION:
URL:https://www.pinecrestfuneralchapel.com/obituaries/carl-wells
LOCATION:Providence Church 6000 Mariner Blvd  Spring Hill FL 34609
GEO:28.5137245;-82.5178339
END:VEVENT
END:VCALENDAR